BEGIN:VCALENDAR
VERSION:2.0
PRODID:spatie/icalendar-generator
DESCRIPTION:Évènements de SIMGO Nantes
X-WR-CALDESC:Évènements de SIMGO Nantes
REFRESH-INTERVAL;VALUE=DURATION:PT1440M
X-PUBLISHED-TTL:PT1440M
BEGIN:VTIMEZONE
TZID:Europe/Paris
BEGIN:STANDARD
DTSTART:20251026T030000Z
TZOFFSETFROM:+0200
TZOFFSETTO:+0100
END:STANDARD
BEGIN:DAYLIGHT
DTSTART:20260329T020000Z
TZOFFSETFROM:+0100
TZOFFSETTO:+0200
END:DAYLIGHT
BEGIN:STANDARD
DTSTART:20261025T030000Z
TZOFFSETFROM:+0200
TZOFFSETTO:+0100
END:STANDARD
END:VTIMEZONE
BEGIN:VTIMEZONE
TZID:UTC
BEGIN:STANDARD
DTSTART:20250725T154412Z
TZOFFSETFROM:+0000
TZOFFSETTO:+0000
END:STANDARD
END:VTIMEZONE
BEGIN:VEVENT
UID:12-9
DTSTAMP:20260421T154412Z
SUMMARY:Cours Arthrite et Arthralgie
LOCATION:Faculté de médecine salle 243
ORGANIZER;CN=Webmaster temporaire:MAILTO:webmaster@simgonantes.com
DTSTART;TZID=Europe/Paris:20260512T183000
DTEND;TZID=Europe/Paris:20260512T200000
X-ALT-DESC;FMTTYPE=TEXT/HTML:Cours SIMGO réservé aux adhérents du SIMGO 
 Lien inscription : https://docs.google.com/.../1FAIpQLScXGN4cPIL.../viewf
 orm... Lien zoom à venir. Une attestation de présence vous sera envoyée
  par mail dans les suites du cours. Tous les cours du SIMGO valident des c
 rédits auprès du DMG
CATEGORIES:cours
URL;VALUE=URI:https://simgonantes.com/mc-events/cours-arthrite-et-arthralgi
 e/
METHOD:PUBLISH
END:VEVENT
END:VCALENDAR