BEGIN:VCALENDAR
VERSION:2.0
PRODID:spatie/icalendar-generator
DESCRIPTION:Évènements de SIMGO Nantes
X-WR-CALDESC:Évènements de SIMGO Nantes
REFRESH-INTERVAL;VALUE=DURATION:PT1440M
X-PUBLISHED-TTL:PT1440M
BEGIN:VTIMEZONE
TZID:Europe/Paris
BEGIN:STANDARD
DTSTART:20221030T030000Z
TZOFFSETFROM:+0200
TZOFFSETTO:+0100
END:STANDARD
BEGIN:DAYLIGHT
DTSTART:20230326T020000Z
TZOFFSETFROM:+0100
TZOFFSETTO:+0200
END:DAYLIGHT
END:VTIMEZONE
BEGIN:VTIMEZONE
TZID:UTC
BEGIN:STANDARD
DTSTART:20250725T160256Z
TZOFFSETFROM:+0000
TZOFFSETTO:+0000
END:STANDARD
END:VTIMEZONE
BEGIN:VEVENT
UID:11-3
DTSTAMP:20260421T160256Z
SUMMARY:Afterwork 28/03/23
LOCATION:
ORGANIZER;CN=Webmaster temporaire:MAILTO:webmaster@simgonantes.com
DTSTART;TZID=Europe/Paris;VALUE=DATE:20230328
DTEND;TZID=Europe/Paris;VALUE=DATE:20230329
X-ALT-DESC;FMTTYPE=TEXT/HTML:Le SIMGO vous propose un AFTERWORK le mardi 28
 /03/2023 au Petit Baigneur ! RDV à partir de 16h30 après votre journée 
 de choix. Il y aura aussi sur place la fanfare des archi\, les durs à cui
 vre\, pour mettre l'ambiance ! Nous espérons vous voir nombreux !
CATEGORIES:General
URL;VALUE=URI:https://simgonantes.com/mc-events/afterwork-28-03-23/
METHOD:PUBLISH
END:VEVENT
END:VCALENDAR