BEGIN:VCALENDAR
VERSION:2.0
PRODID:spatie/icalendar-generator
DESCRIPTION:Évènements de SIMGO Nantes
X-WR-CALDESC:Évènements de SIMGO Nantes
REFRESH-INTERVAL;VALUE=DURATION:PT1440M
X-PUBLISHED-TTL:PT1440M
BEGIN:VTIMEZONE
TZID:Europe/Paris
BEGIN:STANDARD
DTSTART:20251026T030000Z
TZOFFSETFROM:+0200
TZOFFSETTO:+0100
END:STANDARD
BEGIN:DAYLIGHT
DTSTART:20260329T020000Z
TZOFFSETFROM:+0100
TZOFFSETTO:+0200
END:DAYLIGHT
BEGIN:STANDARD
DTSTART:20261025T030000Z
TZOFFSETFROM:+0200
TZOFFSETTO:+0100
END:STANDARD
END:VTIMEZONE
BEGIN:VTIMEZONE
TZID:UTC
BEGIN:STANDARD
DTSTART:20250725T153524Z
TZOFFSETFROM:+0000
TZOFFSETTO:+0000
END:STANDARD
END:VTIMEZONE
BEGIN:VEVENT
UID:7-6
DTSTAMP:20260421T153524Z
SUMMARY:Séminaire Psychiatrie
LOCATION:
ORGANIZER;CN=Webmaster temporaire:MAILTO:webmaster@simgonantes.com
DTSTART;TZID=Europe/Paris:20260528T140000
DTEND;TZID=Europe/Paris:20260528T180000
X-ALT-DESC;FMTTYPE=TEXT/HTML:Le pôle formation du SIMGO vous propose des c
 ours/séminaires de psychiatrie. Ces séances sont effectués par Dr Mialo
 cq Lucile\, psychiatre\, avec les unités ELPP\, PASS\, PSY et CRCT.Le pro
 gramme est diffusé sur vos groupes Messenger  Quand ? Les jeudi après-m
 idi\, tous les 15 jours d'avril à juin 2026\, de 14h à 18h\, les jeudi a
 près-midi…
CATEGORIES:cours
URL;VALUE=URI:https://simgonantes.com/mc-events/seminaire-psychiatrie-2/
METHOD:PUBLISH
END:VEVENT
END:VCALENDAR